BEGIN:VCALENDAR
VERSION:2.0
PRODID:-//Plone.org//NONSGML plone.app.event//EN
X-WR-TIMEZONE:Europe/Berlin
BEGIN:VEVENT
SUMMARY:BA Abschlussvortrag Robin Marchart / Fabian Kilger 
DTSTART;TZID=Europe/Berlin;VALUE=DATE-TIME:20250325T110000
DTEND;TZID=Europe/Berlin;VALUE=DATE-TIME:20250325T120000
DTSTAMP;VALUE=DATE-TIME:20260423T194639Z
UID:ee61e3fd-6d4d-4d38-a164-0a893c89c335
CREATED;VALUE=DATE-TIME:20250212T100002Z
DESCRIPTION:Title: Security Analysis of the Site-Isolation Feature in WebK
 it
LAST-MODIFIED;VALUE=DATE-TIME:20250212T100002Z
LOCATION:per Videokonferenz 
URL:https://www.sec.in.tum.de/i20/events/10358886
END:VEVENT
BEGIN:VTIMEZONE
TZID:Europe/Berlin
X-LIC-LOCATION:Europe/Berlin
BEGIN:STANDARD
DTSTART;VALUE=DATE-TIME:20241027T020000
TZNAME:CET
TZOFFSETFROM:+0200
TZOFFSETTO:+0100
END:STANDARD
END:VTIMEZONE
END:VCALENDAR
