BEGIN:VCALENDAR
VERSION:2.0
PRODID:-//Plone.org//NONSGML plone.app.event//EN
X-WR-TIMEZONE:Europe/Berlin
BEGIN:VEVENT
SUMMARY:MA Abschlussvortrag Tom Mirwald / Christian Banse
DTSTART;TZID=Europe/Berlin;VALUE=DATE-TIME:20231013T140000
DTEND;TZID=Europe/Berlin;VALUE=DATE-TIME:20231013T150000
DTSTAMP;VALUE=DATE-TIME:20260425T030827Z
UID:690123d6-8f48-4557-b50a-25880e51af86
CREATED;VALUE=DATE-TIME:20231004T100002Z
DESCRIPTION:Title: Zero Trust in Cloud Assurance 
LAST-MODIFIED;VALUE=DATE-TIME:20231004T100002Z
LOCATION:per Videokonferenz 
URL:https://www.sec.in.tum.de/i20/events/13811232
END:VEVENT
BEGIN:VTIMEZONE
TZID:Europe/Berlin
X-LIC-LOCATION:Europe/Berlin
BEGIN:DAYLIGHT
DTSTART;VALUE=DATE-TIME:20230326T030000
TZNAME:CEST
TZOFFSETFROM:+0100
TZOFFSETTO:+0200
END:DAYLIGHT
END:VTIMEZONE
END:VCALENDAR
