BEGIN:VCALENDAR
VERSION:2.0
PRODID:-//Plone.org//NONSGML plone.app.event//EN
X-WR-TIMEZONE:Europe/Berlin
BEGIN:VEVENT
SUMMARY:Promotionsvortrag Mathias Morbitzer
DTSTART;TZID=Europe/Berlin;VALUE=DATE-TIME:20231017T160000
DTEND;TZID=Europe/Berlin;VALUE=DATE-TIME:20231017T170000
DTSTAMP;VALUE=DATE-TIME:20260424T103454Z
UID:047d2d15-746c-47d3-ae43-3a6a6163ca10
CREATED;VALUE=DATE-TIME:20230926T080002Z
DESCRIPTION:Title: Analyzing and Improving the Security of Trusted Executi
 on Environments 
LAST-MODIFIED;VALUE=DATE-TIME:20230926T080002Z
LOCATION:hybrid
URL:https://www.sec.in.tum.de/i20/events/14605325
END:VEVENT
BEGIN:VTIMEZONE
TZID:Europe/Berlin
X-LIC-LOCATION:Europe/Berlin
BEGIN:DAYLIGHT
DTSTART;VALUE=DATE-TIME:20230326T030000
TZNAME:CEST
TZOFFSETFROM:+0100
TZOFFSETTO:+0200
END:DAYLIGHT
END:VTIMEZONE
END:VCALENDAR
