BEGIN:VCALENDAR
VERSION:2.0
PRODID:-//Plone.org//NONSGML plone.app.event//EN
X-WR-TIMEZONE:Europe/Berlin
BEGIN:VEVENT
SUMMARY:GR Abschlussvortrag Alexander Wagner / Daniel Kowatsch
DTSTART;TZID=Europe/Berlin;VALUE=DATE-TIME:20231018T110000
DTEND;TZID=Europe/Berlin;VALUE=DATE-TIME:20231018T120000
DTSTAMP;VALUE=DATE-TIME:20260422T222911Z
UID:a7119c19-217b-4b21-9df6-8bbeacc52e02
CREATED;VALUE=DATE-TIME:20230922T080003Z
DESCRIPTION:Title: Exploring the Potential of Machine Learning Techniques 
 for Fuzzing 
LAST-MODIFIED;VALUE=DATE-TIME:20230922T080003Z
LOCATION:per Videokonferenz 
URL:https://www.sec.in.tum.de/i20/events/16916111
END:VEVENT
BEGIN:VTIMEZONE
TZID:Europe/Berlin
X-LIC-LOCATION:Europe/Berlin
BEGIN:DAYLIGHT
DTSTART;VALUE=DATE-TIME:20230326T030000
TZNAME:CEST
TZOFFSETFROM:+0100
TZOFFSETTO:+0200
END:DAYLIGHT
END:VTIMEZONE
END:VCALENDAR
