BEGIN:VCALENDAR
VERSION:2.0
PRODID:-//Plone.org//NONSGML plone.app.event//EN
X-WR-TIMEZONE:Europe/Berlin
BEGIN:VEVENT
SUMMARY:Rigorosum Daniel Krefft
DTSTART;TZID=Europe/Berlin;VALUE=DATE-TIME:20190125T090000
DTEND;TZID=Europe/Berlin;VALUE=DATE-TIME:20190125T123000
DTSTAMP;VALUE=DATE-TIME:20260424T224856Z
UID:243926D1-BC3D-46B1-B47A-C5188A1C0F89
CREATED;VALUE=DATE-TIME:20181214T100002Z
DESCRIPTION:Title: Flexible Task Management for Self-Adaptation of Mixed-C
 riticality Systems with an Automotive Example 
LAST-MODIFIED;VALUE=DATE-TIME:20181214T100008Z
LOCATION:TUM - 01.08.033
URL:https://www.sec.in.tum.de/i20/events/18652967
END:VEVENT
BEGIN:VTIMEZONE
TZID:Europe/Berlin
X-LIC-LOCATION:Europe/Berlin
BEGIN:STANDARD
DTSTART;VALUE=DATE-TIME:20181028T020000
TZNAME:CET
TZOFFSETFROM:+0200
TZOFFSETTO:+0100
END:STANDARD
END:VTIMEZONE
END:VCALENDAR
