BEGIN:VCALENDAR
VERSION:2.0
PRODID:-//Plone.org//NONSGML plone.app.event//EN
X-WR-TIMEZONE:Europe/Berlin
BEGIN:VEVENT
SUMMARY:MA Abschlussvortrag Johannes Boll / Tobias Specht
DTSTART;TZID=Europe/Berlin;VALUE=DATE-TIME:20260331T160000
DTEND;TZID=Europe/Berlin;VALUE=DATE-TIME:20260331T170000
DTSTAMP;VALUE=DATE-TIME:20260423T082142Z
UID:65211bfa-5491-4285-8264-21162b5b465a
CREATED;VALUE=DATE-TIME:20260204T090002Z
DESCRIPTION:Title: A Systematic Approach to Determining Context Depth in G
 NN-Based Vulnerability Detection
LAST-MODIFIED;VALUE=DATE-TIME:20260302T100152Z
LOCATION:per Videokonferenz
URL:https://www.sec.in.tum.de/i20/events/19480679
END:VEVENT
BEGIN:VTIMEZONE
TZID:Europe/Berlin
X-LIC-LOCATION:Europe/Berlin
BEGIN:DAYLIGHT
DTSTART;VALUE=DATE-TIME:20260329T030000
TZNAME:CEST
TZOFFSETFROM:+0100
TZOFFSETTO:+0200
END:DAYLIGHT
END:VTIMEZONE
END:VCALENDAR
