BEGIN:VCALENDAR
VERSION:2.0
PRODID:-//Plone.org//NONSGML plone.app.event//EN
X-WR-TIMEZONE:Europe/Berlin
BEGIN:VEVENT
SUMMARY:MA Abschlussvortrag Tim Matejek / Immanuel Kunz 
DTSTART;TZID=Europe/Berlin;VALUE=DATE-TIME:20250326T090000
DTEND;TZID=Europe/Berlin;VALUE=DATE-TIME:20250326T100000
DTSTAMP;VALUE=DATE-TIME:20260423T072912Z
UID:e80ab07e-9164-432c-8bf4-c8d6f9bf390a
CREATED;VALUE=DATE-TIME:20250218T100002Z
DESCRIPTION:Title: Developing Best Practices for Enhancing Incident Respon
 se in Security Operations Centers through Log Analysis​
LAST-MODIFIED;VALUE=DATE-TIME:20250218T100002Z
LOCATION:per Videokonferenz 
URL:https://www.sec.in.tum.de/i20/events/22219072
END:VEVENT
BEGIN:VTIMEZONE
TZID:Europe/Berlin
X-LIC-LOCATION:Europe/Berlin
BEGIN:STANDARD
DTSTART;VALUE=DATE-TIME:20241027T020000
TZNAME:CET
TZOFFSETFROM:+0200
TZOFFSETTO:+0100
END:STANDARD
END:VTIMEZONE
END:VCALENDAR
