BEGIN:VCALENDAR
VERSION:2.0
PRODID:-//Plone.org//NONSGML plone.app.event//EN
X-WR-TIMEZONE:Europe/Berlin
BEGIN:VEVENT
SUMMARY:BA Abschlussvortrag Jakob Günther / Pascal Debus\, Kilian Tschark
 e
DTSTART;TZID=Europe/Berlin;VALUE=DATE-TIME:20240523T090000
DTEND;TZID=Europe/Berlin;VALUE=DATE-TIME:20240523T100000
DTSTAMP;VALUE=DATE-TIME:20260424T234411Z
UID:e3c20529-5da0-4ad7-a3db-6fb82a6fb5bc
CREATED;VALUE=DATE-TIME:20240418T090002Z
DESCRIPTION:Title: Approximate Quantumness Certification of NISQ Devices u
 sing Machine Learning
LAST-MODIFIED;VALUE=DATE-TIME:20240422T094119Z
LOCATION:per Videokonferenz
URL:https://www.sec.in.tum.de/i20/events/23702196
END:VEVENT
BEGIN:VTIMEZONE
TZID:Europe/Berlin
X-LIC-LOCATION:Europe/Berlin
BEGIN:DAYLIGHT
DTSTART;VALUE=DATE-TIME:20240331T030000
TZNAME:CEST
TZOFFSETFROM:+0100
TZOFFSETTO:+0200
END:DAYLIGHT
END:VTIMEZONE
END:VCALENDAR
