BEGIN:VCALENDAR
VERSION:2.0
PRODID:-//Plone.org//NONSGML plone.app.event//EN
X-WR-TIMEZONE:Europe/Berlin
BEGIN:VEVENT
SUMMARY:Vortrag Guided Research Donika Mirdita / Bojan Kolosnjaji 
DTSTART;TZID=Europe/Berlin;VALUE=DATE-TIME:20190502T103000
DTEND;TZID=Europe/Berlin;VALUE=DATE-TIME:20190502T113000
DTSTAMP;VALUE=DATE-TIME:20260423T034501Z
UID:D910B82A-FE7D-4E8F-9581-BC0523794D00
CREATED;VALUE=DATE-TIME:20190404T110002Z
DESCRIPTION:Title: Angreiferbeeinflusstes Maschinelles Lernen für die Erk
 ennung von Android Malware 
LAST-MODIFIED;VALUE=DATE-TIME:20190404T110004Z
LOCATION:TUM
URL:https://www.sec.in.tum.de/i20/events/23927908
END:VEVENT
BEGIN:VTIMEZONE
TZID:Europe/Berlin
X-LIC-LOCATION:Europe/Berlin
BEGIN:DAYLIGHT
DTSTART;VALUE=DATE-TIME:20190331T030000
TZNAME:CEST
TZOFFSETFROM:+0100
TZOFFSETTO:+0200
END:DAYLIGHT
END:VTIMEZONE
END:VCALENDAR
