BEGIN:VCALENDAR
VERSION:2.0
PRODID:-//Plone.org//NONSGML plone.app.event//EN
X-WR-TIMEZONE:Europe/Berlin
BEGIN:VEVENT
SUMMARY:BA Abschlussvortrag Alexandra Huber / Mykolai Protsenko 
DTSTART;TZID=Europe/Berlin;VALUE=DATE-TIME:20240619T170000
DTEND;TZID=Europe/Berlin;VALUE=DATE-TIME:20240619T180000
DTSTAMP;VALUE=DATE-TIME:20260424T234255Z
UID:ba30d510-6be5-4c7c-8dcd-e63ac7ea0c43
CREATED;VALUE=DATE-TIME:20240604T080002Z
DESCRIPTION:Title: Considering Attackers with Root Access in Embedded Linu
 x Update Systems 
LAST-MODIFIED;VALUE=DATE-TIME:20240604T080002Z
LOCATION:per Videokonferenz 
URL:https://www.sec.in.tum.de/i20/events/27034129
END:VEVENT
BEGIN:VTIMEZONE
TZID:Europe/Berlin
X-LIC-LOCATION:Europe/Berlin
BEGIN:DAYLIGHT
DTSTART;VALUE=DATE-TIME:20240331T030000
TZNAME:CEST
TZOFFSETFROM:+0100
TZOFFSETTO:+0200
END:DAYLIGHT
END:VTIMEZONE
END:VCALENDAR
