BEGIN:VCALENDAR
VERSION:2.0
PRODID:-//Plone.org//NONSGML plone.app.event//EN
X-WR-TIMEZONE:Europe/Berlin
BEGIN:VEVENT
SUMMARY:MA Abschlussvortrag Ibrahim Canakkaleli / Chingyu Kao
DTSTART;TZID=Europe/Berlin;VALUE=DATE-TIME:20260129T100000
DTEND;TZID=Europe/Berlin;VALUE=DATE-TIME:20260129T110000
DTSTAMP;VALUE=DATE-TIME:20260423T005400Z
UID:c68be3a2-93e3-4991-8a67-a3b088f8b9d8
CREATED;VALUE=DATE-TIME:20260108T110002Z
DESCRIPTION:Title: Indirect Adversarial Attacks and Long-Horizon Drift in 
 LLM Agents
LAST-MODIFIED;VALUE=DATE-TIME:20260108T110003Z
LOCATION:per Videokonferenz 
URL:https://www.sec.in.tum.de/i20/events/29083590
END:VEVENT
BEGIN:VTIMEZONE
TZID:Europe/Berlin
X-LIC-LOCATION:Europe/Berlin
BEGIN:STANDARD
DTSTART;VALUE=DATE-TIME:20251026T020000
TZNAME:CET
TZOFFSETFROM:+0200
TZOFFSETTO:+0100
END:STANDARD
END:VTIMEZONE
END:VCALENDAR
