BEGIN:VCALENDAR
VERSION:2.0
PRODID:-//Plone.org//NONSGML plone.app.event//EN
X-WR-TIMEZONE:Europe/Berlin
BEGIN:VEVENT
SUMMARY:BA Abschlussvortrag Saskia Bryk / Lukas Gehrke
DTSTART;TZID=Europe/Berlin;VALUE=DATE-TIME:20250910T110000
DTEND;TZID=Europe/Berlin;VALUE=DATE-TIME:20250910T120000
DTSTAMP;VALUE=DATE-TIME:20260425T032041Z
UID:e9a5e52d-9813-43f8-81cc-7e0b4f6d12eb
CREATED;VALUE=DATE-TIME:20250807T080003Z
DESCRIPTION:Title: Analyzing Deficits in Java Maven SBOM Creation and Iden
 tifying Optimization Potentials
LAST-MODIFIED;VALUE=DATE-TIME:20250807T080003Z
LOCATION:per Videokonferenz 
URL:https://www.sec.in.tum.de/i20/events/36494138
END:VEVENT
BEGIN:VTIMEZONE
TZID:Europe/Berlin
X-LIC-LOCATION:Europe/Berlin
BEGIN:DAYLIGHT
DTSTART;VALUE=DATE-TIME:20250330T030000
TZNAME:CEST
TZOFFSETFROM:+0100
TZOFFSETTO:+0200
END:DAYLIGHT
END:VTIMEZONE
END:VCALENDAR
