BEGIN:VCALENDAR
VERSION:2.0
PRODID:-//Plone.org//NONSGML plone.app.event//EN
X-WR-TIMEZONE:Europe/Berlin
BEGIN:VEVENT
SUMMARY:MA Abschlussvortrag Florian Jakobsmeier / Felix Wruck
DTSTART;TZID=Europe/Berlin;VALUE=DATE-TIME:20200326T173000
DTEND;TZID=Europe/Berlin;VALUE=DATE-TIME:20200326T183000
DTSTAMP;VALUE=DATE-TIME:20260425T002456Z
UID:F8DACFBB-6FD1-4E68-8249-649A839CAA39
CREATED;VALUE=DATE-TIME:20200213T120002Z
DESCRIPTION:Title: Improving OS-Level Virtualization Security by Syscall I
 nterface Reduction
LAST-MODIFIED;VALUE=DATE-TIME:20200323T134108Z
LOCATION:Telco
URL:https://www.sec.in.tum.de/i20/events/43245072
END:VEVENT
BEGIN:VTIMEZONE
TZID:Europe/Berlin
X-LIC-LOCATION:Europe/Berlin
BEGIN:STANDARD
DTSTART;VALUE=DATE-TIME:20191027T020000
TZNAME:CET
TZOFFSETFROM:+0200
TZOFFSETTO:+0100
END:STANDARD
END:VTIMEZONE
END:VCALENDAR
