BEGIN:VCALENDAR
VERSION:2.0
PRODID:-//Plone.org//NONSGML plone.app.event//EN
X-WR-TIMEZONE:Europe/Berlin
BEGIN:VEVENT
SUMMARY:Promotionsvortrag Jan-Philipp Schulze
DTSTART;TZID=Europe/Berlin;VALUE=DATE-TIME:20241009T140000
DTEND;TZID=Europe/Berlin;VALUE=DATE-TIME:20241009T160000
DTSTAMP;VALUE=DATE-TIME:20260426T030328Z
UID:321418b2-3438-413a-afa9-af025dc42333
CREATED;VALUE=DATE-TIME:20240911T080002Z
DESCRIPTION:Title: Data-driven Detection of Anomalous Inputs End-to-end Ne
 ural Approaches to Detect Anomalies and Adversarial Examples
LAST-MODIFIED;VALUE=DATE-TIME:20241001T085848Z
LOCATION:hybrid: AISEC Box und per Videokonferenz
URL:https://www.sec.in.tum.de/i20/events/50961088
END:VEVENT
BEGIN:VTIMEZONE
TZID:Europe/Berlin
X-LIC-LOCATION:Europe/Berlin
BEGIN:DAYLIGHT
DTSTART;VALUE=DATE-TIME:20240331T030000
TZNAME:CEST
TZOFFSETFROM:+0100
TZOFFSETTO:+0200
END:DAYLIGHT
END:VTIMEZONE
END:VCALENDAR
