BEGIN:VCALENDAR
VERSION:2.0
PRODID:-//Plone.org//NONSGML plone.app.event//EN
X-WR-TIMEZONE:Europe/Berlin
BEGIN:VEVENT
SUMMARY:BA Abschlussvortrag Manuela Rosenlehner / Thomas Bellebaum\, Marku
 s Bever
DTSTART;TZID=Europe/Berlin;VALUE=DATE-TIME:20260226T090000
DTEND;TZID=Europe/Berlin;VALUE=DATE-TIME:20260226T100000
DTSTAMP;VALUE=DATE-TIME:20260422T223244Z
UID:42d356e5-f2ab-4a3e-994a-7156b0e30497
CREATED;VALUE=DATE-TIME:20260122T090003Z
DESCRIPTION:Title: Integrating and Evaluating Post-Quantum Key-Blinding in
  the Tor Anonymity Network
LAST-MODIFIED;VALUE=DATE-TIME:20260122T090003Z
LOCATION:per Videokonferenz 
URL:https://www.sec.in.tum.de/i20/events/52237632
END:VEVENT
BEGIN:VTIMEZONE
TZID:Europe/Berlin
X-LIC-LOCATION:Europe/Berlin
BEGIN:STANDARD
DTSTART;VALUE=DATE-TIME:20251026T020000
TZNAME:CET
TZOFFSETFROM:+0200
TZOFFSETTO:+0100
END:STANDARD
END:VTIMEZONE
END:VCALENDAR
