BEGIN:VCALENDAR
VERSION:2.0
PRODID:-//Plone.org//NONSGML plone.app.event//EN
X-WR-TIMEZONE:Europe/Berlin
BEGIN:VEVENT
SUMMARY:BA Abschlussvortrag Roman Canals / Nicolas Müller 
DTSTART;TZID=Europe/Berlin;VALUE=DATE-TIME:20201105T090000
DTEND;TZID=Europe/Berlin;VALUE=DATE-TIME:20201105T100000
DTSTAMP;VALUE=DATE-TIME:20260426T032837Z
UID:F404B0AA-D7F1-4957-9280-5A207A2CE0AA
CREATED;VALUE=DATE-TIME:20201026T100002Z
DESCRIPTION:Title: On the Robustness of Active Learning Models against Dat
 a Poisoning 
LAST-MODIFIED;VALUE=DATE-TIME:20201026T100003Z
LOCATION:per Videokonferenz 
URL:https://www.sec.in.tum.de/i20/events/58681459
END:VEVENT
BEGIN:VTIMEZONE
TZID:Europe/Berlin
X-LIC-LOCATION:Europe/Berlin
BEGIN:STANDARD
DTSTART;VALUE=DATE-TIME:20201025T020000
TZNAME:CET
TZOFFSETFROM:+0200
TZOFFSETTO:+0100
END:STANDARD
END:VTIMEZONE
END:VCALENDAR
