BEGIN:VCALENDAR
VERSION:2.0
PRODID:-//Plone.org//NONSGML plone.app.event//EN
X-WR-TIMEZONE:Europe/Berlin
BEGIN:VEVENT
SUMMARY:GR Abschlussvortrag Maxi Wendlinger / Pascal Debus\, Kilian Tschar
 ke
DTSTART;TZID=Europe/Berlin;VALUE=DATE-TIME:20240411T090000
DTEND;TZID=Europe/Berlin;VALUE=DATE-TIME:20240411T100000
DTSTAMP;VALUE=DATE-TIME:20260423T074853Z
UID:d82a9dd7-e51d-4003-ba87-2aa0fa4cc3e0
CREATED;VALUE=DATE-TIME:20240325T090002Z
DESCRIPTION:Title: A Comparative analysis of adversarial robustness for qu
 antum and classical machine learning models
LAST-MODIFIED;VALUE=DATE-TIME:20240408T083157Z
LOCATION:per Videokonferenz
URL:https://www.sec.in.tum.de/i20/events/60155237
END:VEVENT
BEGIN:VTIMEZONE
TZID:Europe/Berlin
X-LIC-LOCATION:Europe/Berlin
BEGIN:DAYLIGHT
DTSTART;VALUE=DATE-TIME:20240331T030000
TZNAME:CEST
TZOFFSETFROM:+0100
TZOFFSETTO:+0200
END:DAYLIGHT
END:VTIMEZONE
END:VCALENDAR
