BEGIN:VCALENDAR
VERSION:2.0
PRODID:-//Plone.org//NONSGML plone.app.event//EN
X-WR-TIMEZONE:Europe/Berlin
BEGIN:VEVENT
SUMMARY:MA Ece Kubilay / Julian Schütte 
DTSTART;TZID=Europe/Berlin;VALUE=DATE-TIME:20181031T093000
DTEND;TZID=Europe/Berlin;VALUE=DATE-TIME:20181031T103000
DTSTAMP;VALUE=DATE-TIME:20260424T193711Z
UID:930605A0-9516-4C70-AA08-CA8F8E22985B
CREATED;VALUE=DATE-TIME:20181004T080001Z
DESCRIPTION:Title: Data Flow Analysis of EVM Smart Contracts 
LAST-MODIFIED;VALUE=DATE-TIME:20181004T080001Z
LOCATION:01.08.033
URL:https://www.sec.in.tum.de/i20/events/61462032
END:VEVENT
BEGIN:VTIMEZONE
TZID:Europe/Berlin
X-LIC-LOCATION:Europe/Berlin
BEGIN:STANDARD
DTSTART;VALUE=DATE-TIME:20181028T020000
TZNAME:CET
TZOFFSETFROM:+0200
TZOFFSETTO:+0100
END:STANDARD
END:VTIMEZONE
END:VCALENDAR
