BEGIN:VCALENDAR
VERSION:2.0
PRODID:-//Plone.org//NONSGML plone.app.event//EN
X-WR-TIMEZONE:Europe/Berlin
BEGIN:VEVENT
SUMMARY:MA Abschlussvortrag Pedram Fardzadeh / Sebastian Peters\, Adrian R
 euter
DTSTART;TZID=Europe/Berlin;VALUE=DATE-TIME:20250730T110000
DTEND;TZID=Europe/Berlin;VALUE=DATE-TIME:20250730T120000
DTSTAMP;VALUE=DATE-TIME:20260424T130721Z
UID:ea0f7edb-ca19-47f4-bfc8-c85450939f0c
CREATED;VALUE=DATE-TIME:20250707T080003Z
DESCRIPTION:Title: Evaluation of Secure Zero Touch Provisioning for Indust
 rial Bootstrapping
LAST-MODIFIED;VALUE=DATE-TIME:20250707T080003Z
LOCATION:per Videokonferenz 
URL:https://www.sec.in.tum.de/i20/events/63893331
END:VEVENT
BEGIN:VTIMEZONE
TZID:Europe/Berlin
X-LIC-LOCATION:Europe/Berlin
BEGIN:DAYLIGHT
DTSTART;VALUE=DATE-TIME:20250330T030000
TZNAME:CEST
TZOFFSETFROM:+0100
TZOFFSETTO:+0200
END:DAYLIGHT
END:VTIMEZONE
END:VCALENDAR
