BEGIN:VCALENDAR
VERSION:2.0
PRODID:-//Plone.org//NONSGML plone.app.event//EN
X-WR-TIMEZONE:Europe/Berlin
BEGIN:VEVENT
SUMMARY:BA Abschlussvortrag Nicholas Schweitzer / Fabian Kilger
DTSTART;TZID=Europe/Berlin;VALUE=DATE-TIME:20250807T110000
DTEND;TZID=Europe/Berlin;VALUE=DATE-TIME:20250807T120000
DTSTAMP;VALUE=DATE-TIME:20260423T054608Z
UID:e9a949d0-a5da-4228-a43a-3b03bcf862fe
CREATED;VALUE=DATE-TIME:20250714T090003Z
DESCRIPTION:Title: Modeling Embedded Peripherals with Neural Networks for 
 Firmware Rehosting
LAST-MODIFIED;VALUE=DATE-TIME:20250714T090003Z
LOCATION:per Videokonferenz 
URL:https://www.sec.in.tum.de/i20/events/65657405
END:VEVENT
BEGIN:VTIMEZONE
TZID:Europe/Berlin
X-LIC-LOCATION:Europe/Berlin
BEGIN:DAYLIGHT
DTSTART;VALUE=DATE-TIME:20250330T030000
TZNAME:CEST
TZOFFSETFROM:+0100
TZOFFSETTO:+0200
END:DAYLIGHT
END:VTIMEZONE
END:VCALENDAR
