BEGIN:VCALENDAR
VERSION:2.0
PRODID:-//Plone.org//NONSGML plone.app.event//EN
X-WR-TIMEZONE:Europe/Berlin
BEGIN:VEVENT
SUMMARY:BA Abschlussvortrag Dan Glaman / Lukas Gehrke 
DTSTART;TZID=Europe/Berlin;VALUE=DATE-TIME:20260319T130000
DTEND;TZID=Europe/Berlin;VALUE=DATE-TIME:20260319T140000
DTSTAMP;VALUE=DATE-TIME:20260424T184017Z
UID:2f2888ac-6710-4809-a945-7c9e37758874
CREATED;VALUE=DATE-TIME:20260114T100003Z
DESCRIPTION:Title: A Large-Scale Differential Analysis of SBOMs in the Pyt
 hon Ecosystem
LAST-MODIFIED;VALUE=DATE-TIME:20260114T100003Z
LOCATION:per Videokonferenz
URL:https://www.sec.in.tum.de/i20/events/65777585
END:VEVENT
BEGIN:VTIMEZONE
TZID:Europe/Berlin
X-LIC-LOCATION:Europe/Berlin
BEGIN:STANDARD
DTSTART;VALUE=DATE-TIME:20251026T020000
TZNAME:CET
TZOFFSETFROM:+0200
TZOFFSETTO:+0100
END:STANDARD
END:VTIMEZONE
END:VCALENDAR
