BEGIN:VCALENDAR
VERSION:2.0
PRODID:-//Plone.org//NONSGML plone.app.event//EN
X-WR-TIMEZONE:Europe/Berlin
BEGIN:VEVENT
SUMMARY:Promotionsvortrag Fabian Franzen
DTSTART;TZID=Europe/Berlin;VALUE=DATE-TIME:20241210T123000
DTEND;TZID=Europe/Berlin;VALUE=DATE-TIME:20241210T150000
DTSTAMP;VALUE=DATE-TIME:20260420T211519Z
UID:13d7f41f-5c68-48fa-a228-86c6dcbae5d6
CREATED;VALUE=DATE-TIME:20241112T110002Z
DESCRIPTION:Title: The Configurability of the Linux Kernel and the Implica
 tions on Security
LAST-MODIFIED;VALUE=DATE-TIME:20241121T073817Z
LOCATION:hybrid - CIT Sitzungsraum 2 (00.12.019)
URL:https://www.sec.in.tum.de/i20/events/66020821
END:VEVENT
BEGIN:VTIMEZONE
TZID:Europe/Berlin
X-LIC-LOCATION:Europe/Berlin
BEGIN:STANDARD
DTSTART;VALUE=DATE-TIME:20241027T020000
TZNAME:CET
TZOFFSETFROM:+0200
TZOFFSETTO:+0100
END:STANDARD
END:VTIMEZONE
END:VCALENDAR
