BEGIN:VCALENDAR
VERSION:2.0
PRODID:-//Plone.org//NONSGML plone.app.event//EN
X-WR-TIMEZONE:Europe/Berlin
BEGIN:VEVENT
SUMMARY:BA Abschlussvortrag Yuto Paul Warkentin / Lukas Gehrke
DTSTART;TZID=Europe/Berlin;VALUE=DATE-TIME:20250429T090000
DTEND;TZID=Europe/Berlin;VALUE=DATE-TIME:20250429T100000
DTSTAMP;VALUE=DATE-TIME:20260425T050401Z
UID:9ef11687-c029-4650-8b0f-1c3536d223b7
CREATED;VALUE=DATE-TIME:20250408T100002Z
DESCRIPTION:Title: Analyzing SBOMs for Supply Chain Security including a P
 ractical Evaluation in the Rust Ecosystem
LAST-MODIFIED;VALUE=DATE-TIME:20250408T100003Z
LOCATION:per Videokonferenz 
URL:https://www.sec.in.tum.de/i20/events/68914936
END:VEVENT
BEGIN:VTIMEZONE
TZID:Europe/Berlin
X-LIC-LOCATION:Europe/Berlin
BEGIN:DAYLIGHT
DTSTART;VALUE=DATE-TIME:20250330T030000
TZNAME:CEST
TZOFFSETFROM:+0100
TZOFFSETTO:+0200
END:DAYLIGHT
END:VTIMEZONE
END:VCALENDAR
