BEGIN:VCALENDAR
VERSION:2.0
PRODID:-//Plone.org//NONSGML plone.app.event//EN
X-WR-TIMEZONE:Europe/Berlin
BEGIN:VEVENT
SUMMARY:BA Abschlussvortrag Andreas Binder / Immanuel Kunz 
DTSTART;TZID=Europe/Berlin;VALUE=DATE-TIME:20211008T123000
DTEND;TZID=Europe/Berlin;VALUE=DATE-TIME:20211008T133000
DTSTAMP;VALUE=DATE-TIME:20260425T014411Z
UID:98C48D65-2F28-49E2-AA6A-CD743849D207
CREATED;VALUE=DATE-TIME:20210831T100003Z
DESCRIPTION:Title: From Requirements to Architecture: Systematically Selec
 ting Privacy Enhancing Technologies 
LAST-MODIFIED;VALUE=DATE-TIME:20210831T100003Z
LOCATION:per Videokonferenz 
URL:https://www.sec.in.tum.de/i20/events/74425460
END:VEVENT
BEGIN:VTIMEZONE
TZID:Europe/Berlin
X-LIC-LOCATION:Europe/Berlin
BEGIN:DAYLIGHT
DTSTART;VALUE=DATE-TIME:20210328T030000
TZNAME:CEST
TZOFFSETFROM:+0100
TZOFFSETTO:+0200
END:DAYLIGHT
END:VTIMEZONE
END:VCALENDAR
