BEGIN:VCALENDAR
VERSION:2.0
PRODID:-//Plone.org//NONSGML plone.app.event//EN
X-WR-TIMEZONE:Europe/Berlin
BEGIN:VEVENT
SUMMARY:MA Abschlussvortrag Martin Bogusz / Martin Schanzenbach 
DTSTART;TZID=Europe/Berlin;VALUE=DATE-TIME:20220428T100000
DTEND;TZID=Europe/Berlin;VALUE=DATE-TIME:20220428T110000
DTSTAMP;VALUE=DATE-TIME:20260423T101150Z
UID:99153CB7-7B52-4FFF-8F9B-B379DCFD4B25
CREATED;VALUE=DATE-TIME:20220311T110005Z
DESCRIPTION:Title: Secure\, decentralized trust establishment in self-sove
 reign identity systems 
LAST-MODIFIED;VALUE=DATE-TIME:20220311T110005Z
LOCATION:per Videokonferenz 
URL:https://www.sec.in.tum.de/i20/events/7470833
END:VEVENT
BEGIN:VTIMEZONE
TZID:Europe/Berlin
X-LIC-LOCATION:Europe/Berlin
BEGIN:DAYLIGHT
DTSTART;VALUE=DATE-TIME:20220327T030000
TZNAME:CEST
TZOFFSETFROM:+0100
TZOFFSETTO:+0200
END:DAYLIGHT
END:VTIMEZONE
END:VCALENDAR
