BEGIN:VCALENDAR
VERSION:2.0
PRODID:-//Plone.org//NONSGML plone.app.event//EN
X-WR-TIMEZONE:Europe/Berlin
BEGIN:VEVENT
SUMMARY:MA Abschlussvortrag Victor Tabary / Kilian Zinnecker\, Andreas See
 los-Zankl
DTSTART;TZID=Europe/Berlin;VALUE=DATE-TIME:20250514T090000
DTEND;TZID=Europe/Berlin;VALUE=DATE-TIME:20250514T100000
DTSTAMP;VALUE=DATE-TIME:20260421T233427Z
UID:ab7d3f2c-97a9-4b8a-af6f-e884738707ff
CREATED;VALUE=DATE-TIME:20250404T070003Z
DESCRIPTION:Title: Investigating compiler-introduced cache side-channel le
 akages in crypto libraries
LAST-MODIFIED;VALUE=DATE-TIME:20250404T070003Z
LOCATION:per Videokonferenz 
URL:https://www.sec.in.tum.de/i20/events/85847749
END:VEVENT
BEGIN:VTIMEZONE
TZID:Europe/Berlin
X-LIC-LOCATION:Europe/Berlin
BEGIN:DAYLIGHT
DTSTART;VALUE=DATE-TIME:20250330T030000
TZNAME:CEST
TZOFFSETFROM:+0100
TZOFFSETTO:+0200
END:DAYLIGHT
END:VTIMEZONE
END:VCALENDAR
