BEGIN:VCALENDAR
VERSION:2.0
PRODID:-//Plone.org//NONSGML plone.app.event//EN
X-WR-TIMEZONE:Europe/Berlin
BEGIN:VEVENT
SUMMARY:MA Abschlussvortrag Markus Bever / Thomas Bellebaum 
DTSTART;TZID=Europe/Berlin;VALUE=DATE-TIME:20241114T090000
DTEND;TZID=Europe/Berlin;VALUE=DATE-TIME:20241114T100000
DTSTAMP;VALUE=DATE-TIME:20260424T074741Z
UID:bd7002a6-74cc-4df1-8e54-e117463b84ed
CREATED;VALUE=DATE-TIME:20240917T080001Z
DESCRIPTION:Title: Instantiation of a Post-Quantum Key-Blinding Signature 
 Scheme
LAST-MODIFIED;VALUE=DATE-TIME:20240917T080002Z
LOCATION:per Videokonferenz 
URL:https://www.sec.in.tum.de/i20/events/89774782
END:VEVENT
BEGIN:VTIMEZONE
TZID:Europe/Berlin
X-LIC-LOCATION:Europe/Berlin
BEGIN:STANDARD
DTSTART;VALUE=DATE-TIME:20241027T020000
TZNAME:CET
TZOFFSETFROM:+0200
TZOFFSETTO:+0100
END:STANDARD
END:VTIMEZONE
END:VCALENDAR
