BEGIN:VCALENDAR
VERSION:2.0
PRODID:-//Plone.org//NONSGML plone.app.event//EN
X-WR-TIMEZONE:Europe/Berlin
BEGIN:VEVENT
SUMMARY:MA Abschlussvortrag Daniel Fomin / Hr. Böttinger\, Hr. Schuster 
DTSTART;TZID=Europe/Berlin;VALUE=DATE-TIME:20220518T090000
DTEND;TZID=Europe/Berlin;VALUE=DATE-TIME:20220518T100000
DTSTAMP;VALUE=DATE-TIME:20260423T003042Z
UID:44E3B41B-0A7D-4FCB-9096-4693ED4A80F5
CREATED;VALUE=DATE-TIME:20220429T100003Z
DESCRIPTION:Title: Communicating through Firewalls by using Reinforcement 
 Learning 
LAST-MODIFIED;VALUE=DATE-TIME:20220429T100003Z
LOCATION:per Videokonferenz 
URL:https://www.sec.in.tum.de/i20/events/90697152
END:VEVENT
BEGIN:VTIMEZONE
TZID:Europe/Berlin
X-LIC-LOCATION:Europe/Berlin
BEGIN:DAYLIGHT
DTSTART;VALUE=DATE-TIME:20220327T030000
TZNAME:CEST
TZOFFSETFROM:+0100
TZOFFSETTO:+0200
END:DAYLIGHT
END:VTIMEZONE
END:VCALENDAR
