BEGIN:VCALENDAR
VERSION:2.0
PRODID:-//Plone.org//NONSGML plone.app.event//EN
X-WR-TIMEZONE:Europe/Berlin
BEGIN:VEVENT
SUMMARY:BA Abschlussvortrag Florian Koller / Mark Gall 
DTSTART;TZID=Europe/Berlin;VALUE=DATE-TIME:20250325T150000
DTEND;TZID=Europe/Berlin;VALUE=DATE-TIME:20250325T160000
DTSTAMP;VALUE=DATE-TIME:20260424T105533Z
UID:f9500f4d-1b78-464d-b963-d8bbdeab87f8
CREATED;VALUE=DATE-TIME:20250227T110002Z
DESCRIPTION:Title: Comparing Privacy-Preserving Regularization Methods for
  Machine Learning
LAST-MODIFIED;VALUE=DATE-TIME:20250227T110003Z
LOCATION:per Videokonferenz 
URL:https://www.sec.in.tum.de/i20/events/94072228
END:VEVENT
BEGIN:VTIMEZONE
TZID:Europe/Berlin
X-LIC-LOCATION:Europe/Berlin
BEGIN:STANDARD
DTSTART;VALUE=DATE-TIME:20241027T020000
TZNAME:CET
TZOFFSETFROM:+0200
TZOFFSETTO:+0100
END:STANDARD
END:VTIMEZONE
END:VCALENDAR
