BEGIN:VCALENDAR
VERSION:2.0
PRODID:-//Plone.org//NONSGML plone.app.event//EN
X-WR-TIMEZONE:Europe/Berlin
BEGIN:VEVENT
SUMMARY:MA Abschlussvortrag Dang Khoa Nguyen / Manuel Andreas 
DTSTART;TZID=Europe/Berlin;VALUE=DATE-TIME:20241025T110000
DTEND;TZID=Europe/Berlin;VALUE=DATE-TIME:20241025T120000
DTSTAMP;VALUE=DATE-TIME:20260424T014302Z
UID:9859aa43-9bfe-46e3-b0c6-ba0834b83909
CREATED;VALUE=DATE-TIME:20241010T070001Z
DESCRIPTION:Title: Optimizing Hypervisor Fuzzing through Compiler-Based Sy
 mbolic Execution Integration
LAST-MODIFIED;VALUE=DATE-TIME:20241010T070002Z
LOCATION:per Videokonferenz 
URL:https://www.sec.in.tum.de/i20/events/94474023
END:VEVENT
BEGIN:VTIMEZONE
TZID:Europe/Berlin
X-LIC-LOCATION:Europe/Berlin
BEGIN:DAYLIGHT
DTSTART;VALUE=DATE-TIME:20240331T030000
TZNAME:CEST
TZOFFSETFROM:+0100
TZOFFSETTO:+0200
END:DAYLIGHT
END:VTIMEZONE
END:VCALENDAR
