BEGIN:VCALENDAR
VERSION:2.0
PRODID:-//Plone.org//NONSGML plone.app.event//EN
X-WR-TIMEZONE:Europe/Berlin
BEGIN:VEVENT
SUMMARY:BA Abschlussvortrag Jonathan Hettwer / Albert Stark\, Andreas Korb
DTSTART;TZID=Europe/Berlin;VALUE=DATE-TIME:20250314T100000
DTEND;TZID=Europe/Berlin;VALUE=DATE-TIME:20250314T110000
DTSTAMP;VALUE=DATE-TIME:20260423T015622Z
UID:b34ddd1b-d8ea-4461-9043-65f52943a2a2
CREATED;VALUE=DATE-TIME:20250204T100002Z
DESCRIPTION:Title: Application Specific Attestation on Linux Devices
LAST-MODIFIED;VALUE=DATE-TIME:20250204T100002Z
LOCATION:per Videokonferenz 
URL:https://www.sec.in.tum.de/i20/events/97395894
END:VEVENT
BEGIN:VTIMEZONE
TZID:Europe/Berlin
X-LIC-LOCATION:Europe/Berlin
BEGIN:STANDARD
DTSTART;VALUE=DATE-TIME:20241027T020000
TZNAME:CET
TZOFFSETFROM:+0200
TZOFFSETTO:+0100
END:STANDARD
END:VTIMEZONE
END:VCALENDAR
