BEGIN:VCALENDAR
VERSION:2.0
PRODID:-//Plone.org//NONSGML plone.app.event//EN
X-WR-TIMEZONE:Europe/Berlin
BEGIN:VEVENT
SUMMARY:Karfreitag
DTSTART;VALUE=DATE:20190419
DTEND;VALUE=DATE:20190420
DTSTAMP;VALUE=DATE-TIME:20260423T190304Z
UID:AAAAANWJ25aPXnFEvT3ffeaTdB0HAByfncTefrNNrNsmwuLtsQQAAJzBLLAAAByfncTefr
 NNrNsmwuLtsQQAAJzBQMcAAA==
CATEGORIES:F,e,i,e,r,t,a,g
CREATED;VALUE=DATE-TIME:20200623T090020Z
LAST-MODIFIED;VALUE=DATE-TIME:20190416T111839Z
LOCATION:Deutschland
URL:https://www.sec.in.tum.de/i20/events/karfreitag-1
END:VEVENT
END:VCALENDAR
