BEGIN:VCALENDAR
VERSION:2.0
PRODID:-//Plone.org//NONSGML plone.app.event//EN
X-WR-TIMEZONE:Europe/Berlin
BEGIN:VEVENT
SUMMARY:Osterferien
DTSTART;VALUE=DATE:20190418
DTEND;VALUE=DATE:20190423
DTSTAMP;VALUE=DATE-TIME:20260422T023125Z
UID:040000008200E00074C5B7101A82E0080000000050C8497058F4D40100000000000000
 001000000066FFF126643D1C47A0D89CBB12BB61D7
CREATED;VALUE=DATE-TIME:20200623T090002Z
DESCRIPTION:\n
LAST-MODIFIED;VALUE=DATE-TIME:20190416T112914Z
URL:https://www.sec.in.tum.de/i20/events/osterferien
END:VEVENT
END:VCALENDAR
